BEGIN:VCALENDAR
VERSION:2.0
PRODID:-//THE CRY OF THE SPIRIT MINISTRIES - ECPv6.15.18//NONSGML v1.0//EN
CALSCALE:GREGORIAN
METHOD:PUBLISH
X-WR-CALNAME:THE CRY OF THE SPIRIT MINISTRIES
X-ORIGINAL-URL:https://cotsmonline.org
X-WR-CALDESC:Events for THE CRY OF THE SPIRIT MINISTRIES
REFRESH-INTERVAL;VALUE=DURATION:PT1H
X-Robots-Tag:noindex
X-PUBLISHED-TTL:PT1H
BEGIN:VTIMEZONE
TZID:UTC
BEGIN:STANDARD
TZOFFSETFROM:+0000
TZOFFSETTO:+0000
TZNAME:UTC
DTSTART:20220101T000000
END:STANDARD
END:VTIMEZONE
BEGIN:VEVENT
DTSTART;TZID=UTC:20240505T083000
DTEND;TZID=UTC:20240505T170000
DTSTAMP:20260421T124651
CREATED:20240501T190535Z
LAST-MODIFIED:20240501T191048Z
UID:17162-1714897800-1714928400@cotsmonline.org
SUMMARY:HOLY GHOST IMPACT SUNDAY SERVICE
DESCRIPTION:Beloved\, do not believe every spirit\, but test the spirits\, whether they are of God; because many false prophets have gone out into the world. By this you know the Spirit of God: Every spirit that confesses that Jesus Christ has come in the flesh is of God\, and every spirit that does not confess that Jesus Christ has come in the flesh is not of God. And this is the spirit of the Antichrist\, which you have heard was coming\, and is now already in the world. (1 John 4:1-3 nkjv) \nMost times it is not a demon that is our problem but the doctrines we might have absorbed from dark churches\, friends\, or the society. \nDoctrines shape the human life and determine peoples destinies. \nThe Bible says that we should test every prophecy\, every interpretation of His word whether it testifies of Him or not. But\, you cannot know what is wrong unless you know what is right. The Truth sets us free. \nJoin the Cry of The Spirit this Sunday as we travel through the pages of the scriptures to know and encounter the only Truth. \nInvite a beloved\, Ye are welcome!!
URL:https://cotsmonline.org/event/holy-ghost-impact-sunday-service-3/
LOCATION:Kendroid Complex\, Imaara Daima | 50 Meters from Imaara Mall\, Mombasa Road\, Kenya
CATEGORIES:HOLY GHOST IMPACT SERVICE
ATTACH;FMTTYPE=image/png:https://cotsmonline.org/wp-content/uploads/2024/05/EVENTS-CALENDER-101-min.png
ORGANIZER;CN="THE CRY OF THE SPIRIT MINISTRIES":MAILTO:takim.eternalword@gmail.com
END:VEVENT
BEGIN:VEVENT
DTSTART;TZID=UTC:20240414T080000
DTEND;TZID=UTC:20240414T170000
DTSTAMP:20260421T124651
CREATED:20240408T152924Z
LAST-MODIFIED:20240408T153227Z
UID:17010-1713081600-1713114000@cotsmonline.org
SUMMARY:HOLY GHOST IMPACT SERVICE
DESCRIPTION:GLORY IN THE WORD!!
URL:https://cotsmonline.org/event/holy-ghost-impact-service-8/
LOCATION:Kendroid Complex\, Imaara Daima | 50 Meters from Imaara Mall\, Mombasa Road\, Kenya
CATEGORIES:HOLY GHOST IMPACT SERVICE
ORGANIZER;CN="THE CRY OF THE SPIRIT MINISTRIES":MAILTO:takim.eternalword@gmail.com
END:VEVENT
BEGIN:VEVENT
DTSTART;TZID=UTC:20240407T083000
DTEND;TZID=UTC:20240407T170000
DTSTAMP:20260421T124651
CREATED:20240401T142006Z
LAST-MODIFIED:20240401T142555Z
UID:16954-1712478600-1712509200@cotsmonline.org
SUMMARY:HOLY GHOST IMPACT SERVICE
DESCRIPTION:WE ARE EMPOWERED BY THE SPIRIT OF IMMORTAILY \nNO PLACE FOR IMMORALITY \nPURITY IS OUR REALITY \nTILL ETERNITY!! \nYe are welcome to our HOLY GHOST IMPACT SERVICE.  \nWhen your expectations align with the WORD HIMSELF\, there shall be a fulfillment.
URL:https://cotsmonline.org/event/holy-ghost-impact-service-7/
LOCATION:Kendroid Complex\, Imaara Daima | 50 Meters from Imaara Mall\, Mombasa Road\, Kenya
CATEGORIES:HOLY GHOST IMPACT SERVICE
ORGANIZER;CN="THE CRY OF THE SPIRIT MINISTRIES":MAILTO:takim.eternalword@gmail.com
END:VEVENT
BEGIN:VEVENT
DTSTART;TZID=UTC:20240324T080000
DTEND;TZID=UTC:20240324T170000
DTSTAMP:20260421T124651
CREATED:20240318T095908Z
LAST-MODIFIED:20240318T101553Z
UID:16793-1711267200-1711299600@cotsmonline.org
SUMMARY:HOLY GHOST IMPACT SERVICE
DESCRIPTION:THE LORD IS BENT ON RESCUING THE ELECT AND WE SHOULD FOLLOW SUIT \nJOIN US AT OUR APOSTOLIC CONSTRUCTION CENTER\, THE CRY OF THE SPIRIT MINISTRIES GLOBAL AS WE MAKE READY A PEOPLE PREAPRED FOR THE LORD!!
URL:https://cotsmonline.org/event/holy-ghost-impact-service-6/
LOCATION:Kendroid Complex\, Imaara Daima | 50 Meters from Imaara Mall\, Mombasa Road\, Kenya
CATEGORIES:HOLY GHOST IMPACT SERVICE
ORGANIZER;CN="THE CRY OF THE SPIRIT MINISTRIES":MAILTO:takim.eternalword@gmail.com
END:VEVENT
BEGIN:VEVENT
DTSTART;TZID=UTC:20240317T080000
DTEND;TZID=UTC:20240317T170000
DTSTAMP:20260421T124651
CREATED:20240311T182605Z
LAST-MODIFIED:20240311T182605Z
UID:16715-1710662400-1710694800@cotsmonline.org
SUMMARY:APOSTOLIC RENEWAL SUNDAY SERVICE
DESCRIPTION:Psalms 81:10\, NKJV\nI am the Lord your God\, Who brought you out of the land of Egypt; Open your mouth wide\, and I will fill it.\n\n\nOpen your mouth wide and let the LORD fill it with HIS destiny-shaping word. \nYe are welcome…
URL:https://cotsmonline.org/event/apostolic-renewal-sunday-service/
LOCATION:Kendroid Complex\, Imaara Daima | 50 Meters from Imaara Mall\, Mombasa Road\, Kenya
CATEGORIES:HOLY GHOST IMPACT SERVICE
ORGANIZER;CN="THE CRY OF THE SPIRIT MINISTRIES":MAILTO:takim.eternalword@gmail.com
END:VEVENT
BEGIN:VEVENT
DTSTART;TZID=UTC:20240303T083000
DTEND;TZID=UTC:20240303T163000
DTSTAMP:20260421T124651
CREATED:20240225T173900Z
LAST-MODIFIED:20240229T110213Z
UID:16176-1709454600-1709483400@cotsmonline.org
SUMMARY:HOLY GHOST IMPACT SERVICE
DESCRIPTION:It is another first day of the week when we gather in God’s presence to fellowship. \nWe hope you find a church to do just that today; not just a church\, but a ground and pillar of truth. It is important to note that for us Citizens of God’s kingdom\, every day is a seed sown into our lives to bring forth a harvest of righteousness\, peace\, and joy in the Holy Ghost. \nHowever\, these harvests can only be reaped if we spend the day as we should. Now\, one may ask\, how should I spend my day as a kingdom Citizen? There are so many beautiful ways the Bible outlined and taught and that’s why we shouldn’t be ignorant of the churches we worship in. \nIf a church is not teaching us holiness\, righteousness\, or how to live purely in this wicked and perverse generation\, then it does not belong to Christ. Find yourself a good Church that will prepare you for heaven. \nHere\, at the Cry of The Spirit Ministries\, the Word of The Lord is the only spiritual food we partake in. We are continually enlightened\, equipped\, and strengthened for the good work that is in Christ Jesus. \nWe invite you to fellowship with us as we bask in the glory of the Almighty!!
URL:https://cotsmonline.org/event/holy-ghost-impact-service-5/
LOCATION:Kendroid Complex\, Imaara Daima | 50 Meters from Imaara Mall\, Mombasa Road\, Kenya
CATEGORIES:HOLY GHOST IMPACT SERVICE
ORGANIZER;CN="THE CRY OF THE SPIRIT MINISTRIES":MAILTO:takim.eternalword@gmail.com
END:VEVENT
BEGIN:VEVENT
DTSTART;TZID=UTC:20240225T080000
DTEND;TZID=UTC:20240225T170000
DTSTAMP:20260421T124651
CREATED:20240219T123442Z
LAST-MODIFIED:20240219T123812Z
UID:16115-1708848000-1708880400@cotsmonline.org
SUMMARY:HOLY GHOST IMPACT SUNDAY SERVICE
DESCRIPTION:It is another glorious Sunday of the month\, and we give God the glory. \nOne of the major promises God made to us when we were crossing over to this year was a Promise of a constant release of a word in season to us. That we have been receiving in our meetings at Our Apostolic Centre. \nWe cordially welcome you to our HOLY GHOST IMPACT SERVICE THIS SUNDAY. \nHere is a link to last Sunday’s message\, make sure to click the link and update and refresh your inner man. We also urge you to order our ministry materials either virtually (Contact 0791333111) or you can get them physically at the church bookshop.
URL:https://cotsmonline.org/event/holy-ghost-impact-sunday-service-2/
LOCATION:Kendroid Complex\, Imaara Daima | 50 Meters from Imaara Mall\, Mombasa Road\, Kenya
CATEGORIES:HOLY GHOST IMPACT SERVICE
ORGANIZER;CN="THE CRY OF THE SPIRIT MINISTRIES":MAILTO:takim.eternalword@gmail.com
END:VEVENT
BEGIN:VEVENT
DTSTART;TZID=UTC:20240218T080000
DTEND;TZID=UTC:20240218T180000
DTSTAMP:20260421T124651
CREATED:20240212T174335Z
LAST-MODIFIED:20240212T174335Z
UID:16070-1708243200-1708279200@cotsmonline.org
SUMMARY:HOLY GHOST IMPACT SUNDAY SERVICE
DESCRIPTION:The Lord loves the gates of Zion more than all the dwellings of Jacob. Psalms 87:2 NKJV \nWe thank the Almighty God for His constant rain of faithfulness and the mercies that He has forever shown us. Glory to His Holy name ALONE! \nI will instruct you and teach you in the way you should go; I will guide you with My eye. Do not be like the horse or like the mule\, which have no understanding\, which must be harnessed with bit and bridle\, else they will not come near you. Psalms 32:8 NKJV \nIf we want to be taught in the ways of the Lord we should be ready to sit under the cloud of His glory for ours. We have been saved from sin\, we are being saved by the washing water by the Word\, and we shall be saved from eternal damnation when the Lord takes us home. \nWe might have left Egypt but if Egypt has not left us\, the promised Land will be a place we will never reach. \nIn the Cry Of The Spirit Ministries\, Global under the leadership of Apostle Richard E.S. Takim we are transformed from glory to glory. We are taught\, rebuked\, corrected\, and trained in righteousness\, so that we may be thoroughly equipped for every good work (2 Tim.3:16-17). In every fellowship\, we get to experience Jesus as the purifier of the sons of Levi. Lately\, God has been dealing with our morality i.e. we’ve been journying in the presence of God in matters concerning our DESTINY\, MIRACLES\, AND MORALITY. The depth of the Truth that has been dished out cannot be overemphasized. Can you imagine that: \n\nMORAL DECAY is the reduction\, elimination\, or destruction of moral values or excellence through a process. Also\, it is a decline in knowing the difference between right and wrong.\nWhen truth is suppressed\, moral decay is promoted.\nThere are 4 main steps during the decline of one’s moral values:\n\nKnowing that something is wrong yet doing nothing about it.\nGiving what is wrong an environment to function.\nParticipating in what you once considered to be wrong.\nCorruption.\n\n\nYou cannot be happy when God is grieving over the things you are doing.\nWhen you say you are not sinning\, are you committing righteousness?\nPreachers who are not interested in our moral life are dangerous to us.\nThe decline in knowing the difference between right and wrong will be organized this end time.\nThe evil I do not confront will enter and live in me.\nMoral decay can be organized.\nFood for sons is not for slaves. Manna is not for the Egyptians.\n\nThe importance of listening to this message over and over till it transforms us from the inside out cannot be exaggerated. Let us think about eternity and get whatever we need to get there\, create the environment that will facilitate moral excellence\, and rely on Him always (for it’s not by power\, nor by might\, but by the Spirit of the Almighty). \nLet us once again come to the presence of the Lord to feed on His goodness\, to receive Grace for running this Great race\, and be imparted with what our senses are too “dumb” to understand(what time cannot even capture). \nYe are welcome!
URL:https://cotsmonline.org/event/holy-ghost-impact-sunday-service/
LOCATION:Kendroid Complex\, Imaara Daima | 50 Meters from Imaara Mall\, Mombasa Road\, Kenya
CATEGORIES:HOLY GHOST IMPACT SERVICE
ORGANIZER;CN="THE CRY OF THE SPIRIT MINISTRIES":MAILTO:takim.eternalword@gmail.com
END:VEVENT
BEGIN:VEVENT
DTSTART;TZID=UTC:20240211T083000
DTEND;TZID=UTC:20240211T170000
DTSTAMP:20260421T124651
CREATED:20240208T165157Z
LAST-MODIFIED:20240208T170713Z
UID:16044-1707640200-1707670800@cotsmonline.org
SUMMARY:SUNDAY HOLY GHOST IMPACT SERVICE
DESCRIPTION:And many times we make stupid decisions just because we feel like it or maybe we had no other choice than to go down that road. When time processes what we gave it\, we are met with grievous harvests. \nWe live by what we know\, what do you know? \nWe are the sum total of the decisions we have been making in our lives\, both the bad and the good. \nTo be different we are required to make different decisions. Decisions that are not driven by our flesh\, what the devil might be doing in our lives\, or how the world may be treating us. We are to make decisions driven by the Word of the Lord\, for it is our moral compass. We are to make decisions looking at His plans for our lives i.e. our divine destinies. \nLast Sunday we had a glorious explosion of the Word of God. A word that a destiny person is to listen to over and over\, I urge you\, brethren\, to get this message (CONSIDER YOUR DESTINY) and listen to it over and over. \nThe Lord has another explosion of His Truth for us this Sunday\, you better not miss your appointed moment. Come\, having prepared thine heart for whatever the Lord has in store for you. \nYOU ARE WELCOME TO OUR HOLY GHOST IMPACT SUNDAY SERVICE IN JESUS’ PRECIOUS NAME!!
URL:https://cotsmonline.org/event/sunday-holy-ghost-impact-service/
LOCATION:Kendroid Complex\, Imaara Daima | 50 Meters from Imaara Mall\, Mombasa Road\, Kenya
CATEGORIES:HOLY GHOST IMPACT SERVICE
ORGANIZER;CN="THE CRY OF THE SPIRIT MINISTRIES":MAILTO:takim.eternalword@gmail.com
END:VEVENT
BEGIN:VEVENT
DTSTART;TZID=UTC:20240204T083000
DTEND;TZID=UTC:20240204T170000
DTSTAMP:20260421T124651
CREATED:20240129T102816Z
LAST-MODIFIED:20240129T103336Z
UID:15976-1707035400-1707066000@cotsmonline.org
SUMMARY:HOLY GHOST IMPACT SERVICE
DESCRIPTION:RAISING A GENERATION OVER WHOM DEATH HAS NO POWER!!
URL:https://cotsmonline.org/event/holy-ghost-impact-service-4/
LOCATION:Kendroid Complex\, Imaara Daima | 50 Meters from Imaara Mall\, Mombasa Road\, Kenya
CATEGORIES:HOLY GHOST IMPACT SERVICE
ORGANIZER;CN="THE CRY OF THE SPIRIT MINISTRIES":MAILTO:takim.eternalword@gmail.com
END:VEVENT
BEGIN:VEVENT
DTSTART;TZID=UTC:20240114T083000
DTEND;TZID=UTC:20240114T170000
DTSTAMP:20260421T124651
CREATED:20240111T025324Z
LAST-MODIFIED:20240111T025324Z
UID:15780-1705221000-1705251600@cotsmonline.org
SUMMARY:HOLY GHOST IMPACT SERVICE
DESCRIPTION:Psalms 87:2 The Lord loves the gates of Zion more than all the dwelling of Jacob.
URL:https://cotsmonline.org/event/holy-ghost-impact-service-3/
LOCATION:Kendroid Complex\, Imaara Daima | 50 Meters from Imaara Mall\, Mombasa Road\, Kenya
CATEGORIES:HOLY GHOST IMPACT SERVICE
ORGANIZER;CN="THE CRY OF THE SPIRIT MINISTRIES":MAILTO:takim.eternalword@gmail.com
END:VEVENT
BEGIN:VEVENT
DTSTART;TZID=UTC:20240107T083000
DTEND;TZID=UTC:20240107T170000
DTSTAMP:20260421T124651
CREATED:20240105T175540Z
LAST-MODIFIED:20240105T175540Z
UID:15742-1704616200-1704646800@cotsmonline.org
SUMMARY:HOLY GHOST IMPACT SERVICE
DESCRIPTION:Come join us in the presence of KING JESUS!
URL:https://cotsmonline.org/event/holy-ghost-impact-service-2/
LOCATION:Kendroid Complex\, Imaara Daima | 50 Meters from Imaara Mall\, Mombasa Road\, Kenya
CATEGORIES:HOLY GHOST IMPACT SERVICE
ORGANIZER;CN="THE CRY OF THE SPIRIT MINISTRIES":MAILTO:takim.eternalword@gmail.com
END:VEVENT
BEGIN:VEVENT
DTSTART;TZID=UTC:20231231T090000
DTEND;TZID=UTC:20240101T020000
DTSTAMP:20260421T124651
CREATED:20231227T040541Z
LAST-MODIFIED:20231229T064635Z
UID:15657-1704013200-1704074400@cotsmonline.org
SUMMARY:HOLY GHOST IMPACT SERVICE
DESCRIPTION:COME WITH EXPECTATIONS\, FOR THE EXPECTATIONS OF THE RIGHTEOUS SHALL NOT BE CUT OFF. \nCOME READY TO BE BLESSED. \nCOME AND JOIN US SING HALLELUJAH! \nCOME READY TO LEARN FROM JEHOVAH HIMSELF!!!
URL:https://cotsmonline.org/event/holy-ghost-impact-service/
LOCATION:Kendroid Complex\, Imaara Daima | 50 Meters from Imaara Mall\, Mombasa Road\, Kenya
CATEGORIES:HOLY GHOST IMPACT SERVICE
ORGANIZER;CN="THE CRY OF THE SPIRIT MINISTRIES":MAILTO:takim.eternalword@gmail.com
END:VEVENT
BEGIN:VEVENT
DTSTART;VALUE=DATE:20231225
DTEND;VALUE=DATE:20231226
DTSTAMP:20260421T124651
CREATED:20231002T150339Z
LAST-MODIFIED:20231219T062944Z
UID:15211-1703462400-1703548799@cotsmonline.org
SUMMARY:HOLY GHOST IMPACT SUNDAY SERVICE
DESCRIPTION:OH COME YEE LETS ADORE HIM. \nBORN THE KING OF ANGELS.
URL:https://cotsmonline.org/event/sunday-service/
LOCATION:Kendroid Complex\, Imaara Daima | 50 Meters from Imaara Mall\, Mombasa Road\, Kenya
CATEGORIES:HOLY GHOST IMPACT SERVICE
ORGANIZER;CN="THE CRY OF THE SPIRIT MINISTRIES":MAILTO:takim.eternalword@gmail.com
END:VEVENT
END:VCALENDAR