BEGIN:VCALENDAR
VERSION:2.0
PRODID:-//THE CRY OF THE SPIRIT MINISTRIES - ECPv6.15.18//NONSGML v1.0//EN
CALSCALE:GREGORIAN
METHOD:PUBLISH
X-WR-CALNAME:THE CRY OF THE SPIRIT MINISTRIES
X-ORIGINAL-URL:https://cotsmonline.org
X-WR-CALDESC:Events for THE CRY OF THE SPIRIT MINISTRIES
REFRESH-INTERVAL;VALUE=DURATION:PT1H
X-Robots-Tag:noindex
X-PUBLISHED-TTL:PT1H
BEGIN:VTIMEZONE
TZID:UTC
BEGIN:STANDARD
TZOFFSETFROM:+0000
TZOFFSETTO:+0000
TZNAME:UTC
DTSTART:20240101T000000
END:STANDARD
END:VTIMEZONE
BEGIN:VEVENT
DTSTART;TZID=UTC:20250305T173000
DTEND;TZID=UTC:20250307T170000
DTSTAMP:20260422T034641
CREATED:20250304T020749Z
LAST-MODIFIED:20250304T020749Z
UID:19176-1741195800-1741366800@cotsmonline.org
SUMMARY:IN HOUSE APOSTROLIC SUMMIT\, VICTORY NIGHT
DESCRIPTION:YOU DON’T WANNA MISS THIS! \nWELCOME ALL…
URL:https://cotsmonline.org/event/in-house-apostrolic-summit-victory-night/
LOCATION:Kendroid Complex\, Imaara Daima | 50 Meters from Imaara Mall\, Mombasa Road\, Kenya
CATEGORIES:IN-HOUSE APOSTOLIC SUMMIT,VICTORY NIGHT
ORGANIZER;CN="THE CRY OF THE SPIRIT MINISTRIES":MAILTO:takim.eternalword@gmail.com
END:VEVENT
END:VCALENDAR