BEGIN:VCALENDAR
VERSION:2.0
PRODID:-//THE CRY OF THE SPIRIT MINISTRIES - ECPv6.15.18//NONSGML v1.0//EN
CALSCALE:GREGORIAN
METHOD:PUBLISH
X-ORIGINAL-URL:https://cotsmonline.org
X-WR-CALDESC:Events for THE CRY OF THE SPIRIT MINISTRIES
REFRESH-INTERVAL;VALUE=DURATION:PT1H
X-Robots-Tag:noindex
X-PUBLISHED-TTL:PT1H
BEGIN:VTIMEZONE
TZID:UTC
BEGIN:STANDARD
TZOFFSETFROM:+0000
TZOFFSETTO:+0000
TZNAME:UTC
DTSTART:20230101T000000
END:STANDARD
END:VTIMEZONE
BEGIN:VEVENT
DTSTART;VALUE=DATE:20240802
DTEND;VALUE=DATE:20240805
DTSTAMP:20260421T235156
CREATED:20240729T051851Z
LAST-MODIFIED:20240801T224334Z
UID:17798-1722556800-1722815999@cotsmonline.org
SUMMARY:2024 SCHOOL OF THE PROPHETS
DESCRIPTION:https://cotsmonline.org/wp-content/uploads/2024/07/2024-school-of-the-prophets-summit.mp4\n\nCOMING UP !!\n2024 School of the prophets\nFollowing the voice of God for your life\nTime: \nFriday 2nd August\, 5:30PM\nSaturday\, 3rd August 10:30AM & 3:30PM\nSunday\, 4th August\, 8:30AM \nFor more information\, call +25406370793
URL:https://cotsmonline.org/event/2024-school-of-the-prophets/
LOCATION:Kendroid Complex\, Imaara Daima | 50 Meters from Imaara Mall\, Mombasa Road\, Kenya
CATEGORIES:SCHOOL OF THE PROPHETS
ATTACH;FMTTYPE=image/jpeg:https://cotsmonline.org/wp-content/uploads/2024/07/CONFERENCE.jpg
ORGANIZER;CN="THE CRY OF THE SPIRIT MINISTRIES":MAILTO:takim.eternalword@gmail.com
END:VEVENT
END:VCALENDAR