BEGIN:VCALENDAR
VERSION:2.0
PRODID:-//THE CRY OF THE SPIRIT MINISTRIES - ECPv6.15.18//NONSGML v1.0//EN
CALSCALE:GREGORIAN
METHOD:PUBLISH
X-ORIGINAL-URL:https://cotsmonline.org
X-WR-CALDESC:Events for THE CRY OF THE SPIRIT MINISTRIES
REFRESH-INTERVAL;VALUE=DURATION:PT1H
X-Robots-Tag:noindex
X-PUBLISHED-TTL:PT1H
BEGIN:VTIMEZONE
TZID:Europe/Moscow
BEGIN:STANDARD
TZOFFSETFROM:+0300
TZOFFSETTO:+0300
TZNAME:MSK
DTSTART:20240101T000000
END:STANDARD
END:VTIMEZONE
BEGIN:VTIMEZONE
TZID:UTC
BEGIN:STANDARD
TZOFFSETFROM:+0000
TZOFFSETTO:+0000
TZNAME:UTC
DTSTART:20230101T000000
END:STANDARD
END:VTIMEZONE
BEGIN:VEVENT
DTSTART;TZID=Europe/Moscow:20250606T213000
DTEND;TZID=Europe/Moscow:20250607T040000
DTSTAMP:20260421T192318
CREATED:20250526T212932Z
LAST-MODIFIED:20250526T212932Z
UID:22859-1749245400-1749268800@cotsmonline.org
SUMMARY:VICTORY NIGHT
DESCRIPTION:THE VICTORY  NIGHT VISION\n\nIt is a night of ministering to the righteous that are afflicted.\nA night of strengthening our bones of righteousness.\nA night of connecting help against physical resistance  against the faith of the righteous.\nA night of engaging the angels of the LORD to chase anything that comes against the righteous.\nTo minister energy to the righteous that are about fainting.\nTo promote the persistency of the worriors of righteousness.\nTo promote the righteous expectation of the inlet by feeding them with righteous knowledge and wisdom.\nMaking sure the righteous who have fallen rise up.
URL:https://cotsmonline.org/event/victory-night-4/
LOCATION:Kendroid Complex\, Imaara Daima | 50 Meters from Imaara Mall\, Mombasa Road\, Kenya
CATEGORIES:VICTORY NIGHT
ORGANIZER;CN="THE CRY OF THE SPIRIT MINISTRIES":MAILTO:takim.eternalword@gmail.com
END:VEVENT
BEGIN:VEVENT
DTSTART;TZID=UTC:20250502T210000
DTEND;TZID=UTC:20250503T040000
DTSTAMP:20260421T192318
CREATED:20250423T133453Z
LAST-MODIFIED:20250423T133453Z
UID:19721-1746219600-1746244800@cotsmonline.org
SUMMARY:VICTORY NIGHT
DESCRIPTION:A NIGHT LIKE NO OTHER!! \nYOU ARE WELCOME … \nYES\, YOU AND YOUR LOVED ONES ARE ALL WELCOME… JESUS WILL BE PRESENT AND YOU DON’T WANT TO MISS WHAT HE’LL BE BRINGING
URL:https://cotsmonline.org/event/victory-night-3/
LOCATION:Kendroid Complex\, Imaara Daima | 50 Meters from Imaara Mall\, Mombasa Road\, Kenya
CATEGORIES:VICTORY NIGHT
ORGANIZER;CN="THE CRY OF THE SPIRIT MINISTRIES":MAILTO:takim.eternalword@gmail.com
END:VEVENT
BEGIN:VEVENT
DTSTART;TZID=UTC:20250404T210000
DTEND;TZID=UTC:20250405T043000
DTSTAMP:20260421T192318
CREATED:20250331T113341Z
LAST-MODIFIED:20250331T113644Z
UID:19328-1743800400-1743827400@cotsmonline.org
SUMMARY:VICTORY NIGHT
DESCRIPTION:Come expectant because Jesus will be present to heal\, deliver\, and restore. \nInvite your friends and family
URL:https://cotsmonline.org/event/victory-night-2/
LOCATION:Kendroid Complex\, Imaara Daima | 50 Meters from Imaara Mall\, Mombasa Road\, Kenya
CATEGORIES:VICTORY NIGHT
ORGANIZER;CN="THE CRY OF THE SPIRIT MINISTRIES":MAILTO:takim.eternalword@gmail.com
END:VEVENT
BEGIN:VEVENT
DTSTART;TZID=UTC:20250305T173000
DTEND;TZID=UTC:20250307T170000
DTSTAMP:20260421T192318
CREATED:20250304T020749Z
LAST-MODIFIED:20250304T020749Z
UID:19176-1741195800-1741366800@cotsmonline.org
SUMMARY:IN HOUSE APOSTROLIC SUMMIT\, VICTORY NIGHT
DESCRIPTION:YOU DON’T WANNA MISS THIS! \nWELCOME ALL…
URL:https://cotsmonline.org/event/in-house-apostrolic-summit-victory-night/
LOCATION:Kendroid Complex\, Imaara Daima | 50 Meters from Imaara Mall\, Mombasa Road\, Kenya
CATEGORIES:IN-HOUSE APOSTOLIC SUMMIT,VICTORY NIGHT
ORGANIZER;CN="THE CRY OF THE SPIRIT MINISTRIES":MAILTO:takim.eternalword@gmail.com
END:VEVENT
BEGIN:VEVENT
DTSTART;TZID=UTC:20241122T210000
DTEND;TZID=UTC:20241123T040000
DTSTAMP:20260421T192318
CREATED:20241121T153148Z
LAST-MODIFIED:20241121T153148Z
UID:18450-1732309200-1732334400@cotsmonline.org
SUMMARY:Prayer and Prophecy Night
DESCRIPTION:Don’t miss it … \nInvite friends and family…
URL:https://cotsmonline.org/event/prayer-and-prophecy-night/
LOCATION:Kendroid Complex\, Imaara Daima | 50 Meters from Imaara Mall\, Mombasa Road\, Kenya
CATEGORIES:VICTORY NIGHT
ORGANIZER;CN="THE CRY OF THE SPIRIT MINISTRIES":MAILTO:takim.eternalword@gmail.com
END:VEVENT
BEGIN:VEVENT
DTSTART;TZID=UTC:20241115T210000
DTEND;TZID=UTC:20241116T040000
DTSTAMP:20260421T192318
CREATED:20241112T113147Z
LAST-MODIFIED:20241112T113613Z
UID:18384-1731704400-1731729600@cotsmonline.org
SUMMARY:VICTORY NIGHT SEASON 2
DESCRIPTION:VICTORY NIGHT\nSeason 2\n\nThis Friday\, 9pm EAT\n15th Nov. 2024
URL:https://cotsmonline.org/event/victory-night-season-2/
LOCATION:Kendroid Complex\, Imaara Daima | 50 Meters from Imaara Mall\, Mombasa Road\, Kenya
CATEGORIES:VICTORY NIGHT
ATTACH;FMTTYPE=image/jpeg:https://cotsmonline.org/wp-content/uploads/2024/11/VICTORY-NIGHT.jpg
ORGANIZER;CN="THE CRY OF THE SPIRIT MINISTRIES":MAILTO:takim.eternalword@gmail.com
END:VEVENT
END:VCALENDAR